BEGIN:VCALENDAR
VERSION:2.0
PRODID:-//Prairie Woods - ECPv6.15.20//NONSGML v1.0//EN
CALSCALE:GREGORIAN
METHOD:PUBLISH
X-ORIGINAL-URL:https://prairiewoodselc.org
X-WR-CALDESC:Events for Prairie Woods
REFRESH-INTERVAL;VALUE=DURATION:PT1H
X-Robots-Tag:noindex
X-PUBLISHED-TTL:PT1H
BEGIN:VTIMEZONE
TZID:UTC
BEGIN:STANDARD
TZOFFSETFROM:+0000
TZOFFSETTO:+0000
TZNAME:UTC
DTSTART:20240101T000000
END:STANDARD
END:VTIMEZONE
BEGIN:VEVENT
DTSTART;TZID=UTC:20250916T160000
DTEND;TZID=UTC:20250916T173000
DTSTAMP:20260423T011218
CREATED:20250731T212402Z
LAST-MODIFIED:20250731T212402Z
UID:1379-1758038400-1758043800@prairiewoodselc.org
SUMMARY:After School Archery Club
DESCRIPTION:Ages: 4th grade and up \nThe first session will be learning and practicing the skill of archery with compound bows. Each session after\, we will play games\, shoot 3-d targets\, and learn about shooting from an elevated position and ground blind. \nThis program meets at the Farm Site from 4:00pm – 5:30pm for 3 Tuesdays in September: September 16\, 23\, and 30. \nThe cost for this program is $30.
URL:https://prairiewoodselc.org/event/after-school-archery-club-2/
LOCATION:PWELC- Farmsite\, 12718 10th St. NE\, Spicer\, MN\, 56288\, United States
ATTACH;FMTTYPE=image/jpeg:https://prairiewoodselc.org/wp-content/uploads/2024/01/shooting_shorts_testimonial.jpg
END:VEVENT
END:VCALENDAR