BEGIN:VCALENDAR
VERSION:2.0
PRODID:-//Prairie Woods - ECPv6.15.20//NONSGML v1.0//EN
CALSCALE:GREGORIAN
METHOD:PUBLISH
X-WR-CALNAME:Prairie Woods
X-ORIGINAL-URL:https://prairiewoodselc.org
X-WR-CALDESC:Events for Prairie Woods
REFRESH-INTERVAL;VALUE=DURATION:PT1H
X-Robots-Tag:noindex
X-PUBLISHED-TTL:PT1H
BEGIN:VTIMEZONE
TZID:UTC
BEGIN:STANDARD
TZOFFSETFROM:+0000
TZOFFSETTO:+0000
TZNAME:UTC
DTSTART:20250101T000000
END:STANDARD
END:VTIMEZONE
BEGIN:VEVENT
DTSTART;TZID=UTC:20260418T120000
DTEND;TZID=UTC:20260418T160000
DTSTAMP:20260422T124333
CREATED:20260217T180119Z
LAST-MODIFIED:20260406T195329Z
UID:1433-1776513600-1776528000@prairiewoodselc.org
SUMMARY:Earth Day Celebration
DESCRIPTION:Come CELEBRATE EARTH DAY a fun and educational experience for the whole family! Watch a live animal presentation put on by Hemker Zoo\, play nature-themed games\, visit booths\, exhibits\, and activities centered on the environment\, and climb the indoor wall!  \n*No pre-registration necessary.  \nDate: Saturday\, April 18  \nTime: 12:00 – 4:00pm  \nLocation: PWELC Main Building  \nCost: Free  \n   \n  \nBrought to you by: \n \n    
URL:https://prairiewoodselc.org/event/earth-day-celebration-2/
ATTACH;FMTTYPE=image/jpeg:https://prairiewoodselc.org/wp-content/uploads/2026/02/Earth-Day-Logo.jpg
END:VEVENT
END:VCALENDAR