BEGIN:VCALENDAR
VERSION:2.0
PRODID:-//Prairie Woods - ECPv6.15.20//NONSGML v1.0//EN
CALSCALE:GREGORIAN
METHOD:PUBLISH
X-WR-CALNAME:Prairie Woods
X-ORIGINAL-URL:https://prairiewoodselc.org
X-WR-CALDESC:Events for Prairie Woods
REFRESH-INTERVAL;VALUE=DURATION:PT1H
X-Robots-Tag:noindex
X-PUBLISHED-TTL:PT1H
BEGIN:VTIMEZONE
TZID:UTC
BEGIN:STANDARD
TZOFFSETFROM:+0000
TZOFFSETTO:+0000
TZNAME:UTC
DTSTART:20240101T000000
END:STANDARD
END:VTIMEZONE
BEGIN:VEVENT
DTSTART;TZID=UTC:20251118T160000
DTEND;TZID=UTC:20260326T173000
DTSTAMP:20260423T185253
CREATED:20250731T214929Z
LAST-MODIFIED:20251107T214453Z
UID:1380-1763481600-1774546200@prairiewoodselc.org
SUMMARY:Indoor Rock Climbing
DESCRIPTION:Ages: K – 12th Grade \nChallenge yourself physically and mentally with indoor rock climbing! Beginners can learn the basics while experienced climbers can train and refine their skills. PWELC instructors are here to help every climber reach new heights. Equipment provided. \nMeet at the PWELC Main Education Building from 4:00pm – 5:30pm. \nDates: \n\nTuesday November 18\nTuesday\, December 9\nThursday\, December 18\nTuesday\, January 6\nThursday\, January 22\nTuesday\, February 3\nThursday\, February 26\nTuesday\, March 10\nThursday\, March 26\n\nThe cost for this program is $10 per climber for each class.
URL:https://prairiewoodselc.org/event/indoor-rock-climbing/
LOCATION:Indoor Climbing Wall at the Education Building
ATTACH;FMTTYPE=image/jpeg:https://prairiewoodselc.org/wp-content/uploads/2025/07/Indoor-Climbing-04-01-rotated.jpg
END:VEVENT
BEGIN:VEVENT
DTSTART;TZID=UTC:20260212T160000
DTEND;TZID=UTC:20260212T173000
DTSTAMP:20260423T185253
CREATED:20251107T203514Z
LAST-MODIFIED:20251107T203514Z
UID:1415-1770912000-1770917400@prairiewoodselc.org
SUMMARY:Intro to Cross-Country Skiing
DESCRIPTION:Don’t let the snow keep you inside all winter long. Learn the basics of cross-country skiing\, then hit the trails to practice your new skills. Instruction and equipment provided. \nAges: 2nd Grade to Adult \nLocation: PWELC Main Building \nCost: $10
URL:https://prairiewoodselc.org/event/intro-to-cross-country-skiing/
ATTACH;FMTTYPE=image/jpeg:https://prairiewoodselc.org/wp-content/uploads/2024/06/sleigh-fest-1.jpg
END:VEVENT
END:VCALENDAR